DatasetHeader Begin
	Version	= "7.1"
	Name	= "Heiloo_Mosaic.ers"
	LastUpdated	= Fri Jun 19 12:52:28 GMT 2015
	DataFile	= "Heiloo_Mosaic.ecw"
	DataSetType	= Translated
	DataType	= Raster
	ByteOrder	= LSBFirst
	CoordinateSpace Begin
		Datum	= "RD"
		Projection	= "Dutch Grid(RD)"
		CoordinateType	= EN
		Rotation	= 0:0:0.0
	CoordinateSpace End
	RasterInfo Begin
		CellType	= Unsigned8BitInteger
		CellInfo Begin
			Xdimension	= 0.04
			Ydimension	= 0.04
		CellInfo End
		NrOfLines	= 150000
		NrOfCellsPerLine	= 162500
		RegistrationCoord Begin
			Eastings	= 106000
			Northings	= 516000
		RegistrationCoord End
		NrOfBands	= 3
		BandId Begin
			Value	= "Red"
		BandId End
		BandId Begin
			Value	= "Green"
		BandId End
		BandId Begin
			Value	= "Blue"
		BandId End
		RegionInfo Begin
			Type	= Polygon
			RegionName	= "All"
			SubRegion	= { 0 0 0 150000 162500 150000 162500 0 }
		RegionInfo End
	RasterInfo End
DatasetHeader End
