ArcGIS Services Directory
Home
>
topografie (MapServer)
Help
|
API Reference
topografie (MapServer)
View In:
ArcMap
ArcGIS Explorer
ArcGIS JavaScript
Google Earth
View Footprint In:
Google Earth
Service Description:
Map Name:
Layers
Layers:
Annotation
(0)
Labels_Geografischgebied_Hardtone
(1)
heuvel, berg
(2)
heidegebied
(3)
geul, vaargeul
(4)
eiland
(5)
duingebied
(6)
buurtschap
(7)
bosgebied
(8)
bank, ondiepte, plaat
(9)
huizengroep
(10)
woonwijk
(11)
vliedberg
(12)
streek, veld
(13)
polder
(14)
meer, plas, ven, vijver
(15)
kaap, hoek
(16)
zee
(17)
zeegat, zeearm
(18)
plaats, bewoond oord
(19)
Labels_HoofdwegSnelweg_Hardtone
(20)
aantal rijstroken
(21)
a nummers
(22)
n nummers
(23)
e nummers
(24)
knoopnaam
(25)
afritnummer
(26)
Referentie (>1000k)
(27)
Registratief gebied Provincies (500-1000k)
(28)
DLGPROVINCIES2007
(29)
Referentie (<1000k)
(30)
ClipGrensNL (250-1000k)
(31)
Hoofdwegen (>250k)
(32)
Zee (25-1000k)
(33)
Zee (<25k)
(34)
Top10_WaterZeeDroogv
(35)
OmgevingBuitenTopgrens
(36)
GEO_OWNER.TOPGRENS2007_BUITEN (25-250k)
(37)
GEO_OWNER.TOPGRENS2007_BUITEN (<25k)
(38)
GEO_OWNER.TOP10_PLAATS (250-500k)
(39)
GEO_OWNER.TOP10_PLAATS (100-250k)
(40)
GEO_OWNER.TOP10_PLAATS (50-100k)
(41)
GEO_OWNER.TOP10_PLAATS (50k)
(42)
Grote Rivieren (>250k)
(43)
Top250Raster (>150k)
(44)
Top100Raster (75-150k)
(45)
top50Raster (25k-75k)
(46)
Top10NLHardtone (<25k)
(47)
Groep grenzen
(48)
Registratief gebied Provincies
(49)
Registratief gebied Gemeenten
(50)
Groep inrichtingselement
(51)
Inrichtingselement punt
(52)
Inrichtingselement lijn
(53)
Groep reliƫf en hoogte
(54)
relief
(55)
kade, wal
(56)
Hoogte- of dieptepunt
(57)
Isohoogtelijn
(58)
Groep spoorbaandeel
(59)
Spoorbaandeel punt
(60)
Spoorbaandeel lijn
(61)
Groep wegdeel
(62)
Wegkruising punt
(63)
Wegdeel hartlijn (label)
(64)
Wegdeel vlak
(65)
Tunnel
(66)
Weg vlak
(67)
Weg contour
(68)
Weg in uitvoering
(69)
Wegdeel lijnen
(70)
Wegdeel veerboten lijnen
(71)
Groep labels (tekst)
(72)
Functioneel gebied (label)
(73)
Geografische gebieden
(74)
Straten
(75)
Tunnels
(76)
Bruggen
(77)
Groep Gebouwen
(78)
Gebouwen
(79)
Gebouwen
(80)
Groep waterdeel
(81)
Waterdeel lijn
(82)
Waterdeel vlak
(83)
Water vlak
(84)
Water contour
(85)
Groep terrein
(86)
Voorkomen terrein
(87)
Terrein contour
(88)
Terrein vlakken
(89)
Description:
Copyright Text:
Spatial Reference:
28992
Single Fused Map Cache:
true
Tile Info:
Height:
512
Width:
512
DPI:
96
Levels of Detail:
(# Levels: 12)
Level ID:
0 [
Start Tile
,
End Tile
]
Resolution: 2645.83862501058
Scale: 1.0E7
Level ID:
1 [
Start Tile
,
End Tile
]
Resolution: 1322.91931250529
Scale: 5000000.0
Level ID:
2 [
Start Tile
,
End Tile
]
Resolution: 661.459656252646
Scale: 2500000.0
Level ID:
3 [
Start Tile
,
End Tile
]
Resolution: 264.583862501058
Scale: 1000000.0
Level ID:
4 [
Start Tile
,
End Tile
]
Resolution: 132.291931250529
Scale: 500000.0
Level ID:
5 [
Start Tile
,
End Tile
]
Resolution: 66.1459656252646
Scale: 250000.0
Level ID:
6 [
Start Tile
,
End Tile
]
Resolution: 26.4583862501058
Scale: 100000.0
Level ID:
7 [
Start Tile
,
End Tile
]
Resolution: 13.2291931250529
Scale: 50000.0
Level ID:
8 [
Start Tile
,
End Tile
]
Resolution: 6.61459656252646
Scale: 25000.0
Level ID:
9 [
Start Tile
,
End Tile
]
Resolution: 2.64583862501058
Scale: 10000.0
Level ID:
10 [
Start Tile
,
End Tile
]
Resolution: 1.32291931250529
Scale: 5000.0
Level ID:
11 [
Start Tile
,
End Tile
]
Resolution: 0.661459656252646
Scale: 2500.0
Format:
PNG24
Compression Quality:
0
Origin:
X: 0.0
Y: 650000.0
Spatial Reference:
28992
Initial Extent:
XMin: -119965.99868420843
YMin: 248290.85815789754
XMax: 411553.9986842046
YMax: 672967.2418421016
Spatial Reference: 28992
Full Extent:
XMin: -33882.45790034697
YMin: 292287.7215664555
XMax: 325496.2263260971
YMax: 622255.3699761614
Spatial Reference: 28992
Units:
esriMeters
Document Info:
Title:
TOP10NL_93_Hardtone_Web_DC1
Author:
walrecht
Comments:
Subject:
Category:
Keywords:
Supported Interfaces:
REST
SOAP
WMS
Mobile
Supported Operations:
Export Map
Identify
Find